BEGIN:VCALENDAR
VERSION:2.0
PRODID:-//My365Golf.com - ECPv6.15.20//NONSGML v1.0//EN
CALSCALE:GREGORIAN
METHOD:PUBLISH
X-ORIGINAL-URL:https://my365golf.com
X-WR-CALDESC:Events for My365Golf.com
REFRESH-INTERVAL;VALUE=DURATION:PT1H
X-Robots-Tag:noindex
X-PUBLISHED-TTL:PT1H
BEGIN:VTIMEZONE
TZID:America/Denver
BEGIN:DAYLIGHT
TZOFFSETFROM:-0700
TZOFFSETTO:-0600
TZNAME:MDT
DTSTART:20230312T090000
END:DAYLIGHT
BEGIN:STANDARD
TZOFFSETFROM:-0600
TZOFFSETTO:-0700
TZNAME:MST
DTSTART:20231105T080000
END:STANDARD
BEGIN:DAYLIGHT
TZOFFSETFROM:-0700
TZOFFSETTO:-0600
TZNAME:MDT
DTSTART:20240310T090000
END:DAYLIGHT
BEGIN:STANDARD
TZOFFSETFROM:-0600
TZOFFSETTO:-0700
TZNAME:MST
DTSTART:20241103T080000
END:STANDARD
BEGIN:DAYLIGHT
TZOFFSETFROM:-0700
TZOFFSETTO:-0600
TZNAME:MDT
DTSTART:20250309T090000
END:DAYLIGHT
BEGIN:STANDARD
TZOFFSETFROM:-0600
TZOFFSETTO:-0700
TZNAME:MST
DTSTART:20251102T080000
END:STANDARD
END:VTIMEZONE
BEGIN:VEVENT
DTSTART;TZID=America/Denver:20240903T143000
DTEND;TZID=America/Denver:20240903T170000
DTSTAMP:20260421T171846
CREATED:20240710T202235Z
LAST-MODIFIED:20240710T202235Z
UID:3353-1725373800-1725382800@my365golf.com
SUMMARY:FREE Outdoor Golf Days at Timp Golf in Provo
DESCRIPTION:365 Co-Owner Bruce Rowe has a relationship with Timp Golf (formerly East Bay) in Provo. If you haven’t played there in the last few years\, you are in for a treat! They did a massive redesign and it’s a ton of fun! Click this link to check out their new course. \nThe goal is to get 8 total golfers together. We play in 2 foursomes. We’ll only play 9 holes. Most of the time\, we’ll play in the morning and then get back to work by 10 am or so. This event is FREE! We’ll cover the cost of the greens fees and the golf cart rental. \nTo RSVP\, please visit this page.
URL:https://my365golf.com/event/free-outdoor-golf-days-at-timp-golf-in-provo-5/
LOCATION:UT
CATEGORIES:Social Golf Event
ATTACH;FMTTYPE=image/jpeg:https://my365golf.com/wp-content/uploads/2024/03/Timp-Golf-Course.jpg
ORGANIZER;CN="Bruce Rowe":MAILTO:bruce@my365golf.com
END:VEVENT
END:VCALENDAR