BEGIN:VCALENDAR
VERSION:2.0
PRODID:-//My365Golf.com - ECPv6.15.20//NONSGML v1.0//EN
CALSCALE:GREGORIAN
METHOD:PUBLISH
X-ORIGINAL-URL:https://my365golf.com
X-WR-CALDESC:Events for My365Golf.com
REFRESH-INTERVAL;VALUE=DURATION:PT1H
X-Robots-Tag:noindex
X-PUBLISHED-TTL:PT1H
BEGIN:VTIMEZONE
TZID:America/Denver
BEGIN:DAYLIGHT
TZOFFSETFROM:-0700
TZOFFSETTO:-0600
TZNAME:MDT
DTSTART:20240310T090000
END:DAYLIGHT
BEGIN:STANDARD
TZOFFSETFROM:-0600
TZOFFSETTO:-0700
TZNAME:MST
DTSTART:20241103T080000
END:STANDARD
BEGIN:DAYLIGHT
TZOFFSETFROM:-0700
TZOFFSETTO:-0600
TZNAME:MDT
DTSTART:20250309T090000
END:DAYLIGHT
BEGIN:STANDARD
TZOFFSETFROM:-0600
TZOFFSETTO:-0700
TZNAME:MST
DTSTART:20251102T080000
END:STANDARD
BEGIN:DAYLIGHT
TZOFFSETFROM:-0700
TZOFFSETTO:-0600
TZNAME:MDT
DTSTART:20260308T090000
END:DAYLIGHT
BEGIN:STANDARD
TZOFFSETFROM:-0600
TZOFFSETTO:-0700
TZNAME:MST
DTSTART:20261101T080000
END:STANDARD
END:VTIMEZONE
BEGIN:VEVENT
DTSTART;TZID=America/Denver:20250127T120000
DTEND;TZID=America/Denver:20250127T133000
DTSTAMP:20260423T042050
CREATED:20250118T210008Z
LAST-MODIFIED:20250118T212134Z
UID:4105-1737979200-1737984600@my365golf.com
SUMMARY:Get to Know TrackMan - Pleasant Grove - Jan 27
DESCRIPTION:Today’s session will be on Monday\, Jan 27 in PLEASANT GROVE from Noon to 1:30 pm. \nWe get a lot of questions about TrackMan. For example:\n\n\nHow does calibrating TrackMan work? (it only takes 30 seconds\, and it ensures more accurate data?)\nWhat does Virtual Golf 3 mean?\nWhat settings can you control when you play a round of golf?\nWhat’s a Ghost round?\nI’m trying to be more consistent with your irons. What are some good drills? What metrics should I look at?\nI’m trying to increase your driver distance. Am I looking at the right metrics? Are you aware of TrackMan Speed Training? Are you aware of the Driver Optimizer?\nI’m trying to reduce my slice. Which metrics do I need to understand?\nI need to be better from 30 yards to 110 yards. What resources (Shot Analysis? Range? Target Practice? Which Games? Par 3 Courses?)
URL:https://my365golf.com/event/get-to-know-trackman-jan-27/
LOCATION:365 Golf Pleasant Grove\, 1064 South N County Blvd\, Pleasant Grove\, UT\, 84062\, United States
ATTACH;FMTTYPE=image/jpeg:https://my365golf.com/wp-content/uploads/2022/01/trusted.jpeg
END:VEVENT
END:VCALENDAR