BEGIN:VCALENDAR
VERSION:2.0
PRODID:-//My365Golf.com - ECPv6.15.20//NONSGML v1.0//EN
CALSCALE:GREGORIAN
METHOD:PUBLISH
X-WR-CALNAME:My365Golf.com
X-ORIGINAL-URL:https://my365golf.com
X-WR-CALDESC:Events for My365Golf.com
REFRESH-INTERVAL;VALUE=DURATION:PT1H
X-Robots-Tag:noindex
X-PUBLISHED-TTL:PT1H
BEGIN:VTIMEZONE
TZID:America/Denver
BEGIN:DAYLIGHT
TZOFFSETFROM:-0700
TZOFFSETTO:-0600
TZNAME:MDT
DTSTART:20230312T090000
END:DAYLIGHT
BEGIN:STANDARD
TZOFFSETFROM:-0600
TZOFFSETTO:-0700
TZNAME:MST
DTSTART:20231105T080000
END:STANDARD
BEGIN:DAYLIGHT
TZOFFSETFROM:-0700
TZOFFSETTO:-0600
TZNAME:MDT
DTSTART:20240310T090000
END:DAYLIGHT
BEGIN:STANDARD
TZOFFSETFROM:-0600
TZOFFSETTO:-0700
TZNAME:MST
DTSTART:20241103T080000
END:STANDARD
BEGIN:DAYLIGHT
TZOFFSETFROM:-0700
TZOFFSETTO:-0600
TZNAME:MDT
DTSTART:20250309T090000
END:DAYLIGHT
BEGIN:STANDARD
TZOFFSETFROM:-0600
TZOFFSETTO:-0700
TZNAME:MST
DTSTART:20251102T080000
END:STANDARD
END:VTIMEZONE
BEGIN:VEVENT
DTSTART;VALUE=DATE:20240330
DTEND;VALUE=DATE:20240801
DTSTAMP:20260421T202729
CREATED:20240330T154229Z
LAST-MODIFIED:20240330T154229Z
UID:2999-1711756800-1722470399@my365golf.com
SUMMARY:FREE Outdoor Golf Days at Timp Golf in Provo
DESCRIPTION:365 Co-Owner Bruce Rowe has a relationship with Timp Golf (formerly East Bay) in Provo. If you haven’t played there in the last few years\, you are in for a treat! They did a massive redesign and it’s a ton of fun! Click this link to check out their new course. \nThe goal is to get 8 total golfers together. We play in 2 foursomes. We’ll only play 9 holes. Most of the time\, we’ll play in the morning and then get back to work by 10 am or so. This event is FREE! We’ll cover the cost of the greens fees and the golf cart rental. \nTo RSVP\, please visit this page.
URL:https://my365golf.com/event/outdoor-golf-days-at-timp-golf/
LOCATION:UT
CATEGORIES:Social Golf Event
ATTACH;FMTTYPE=image/jpeg:https://my365golf.com/wp-content/uploads/2024/03/Timp-Golf-Course.jpg
END:VEVENT
BEGIN:VEVENT
DTSTART;VALUE=DATE:20240330
DTEND;VALUE=DATE:20240801
DTSTAMP:20260421T202729
CREATED:20240330T153550Z
LAST-MODIFIED:20240330T153550Z
UID:2997-1711756800-1722470399@my365golf.com
SUMMARY:Indoor Golf Days at 365 Pleasant Grove
DESCRIPTION:Come join us at 365 Golf in Pleasant Grove! Meet other 365 Golf Members and Friends. We’ll play games and have some fun! Plus\, this won’t use up any of your monthly hours! \nTo RSVP\, please visit this page.
URL:https://my365golf.com/event/indoor-golf-days-at-365-pleasant-grove/
LOCATION:UT
CATEGORIES:Social Golf Event
ATTACH;FMTTYPE=image/jpeg:https://my365golf.com/wp-content/uploads/2023/08/PXL_20221228_173505604-1-scaled.jpg
END:VEVENT
BEGIN:VEVENT
DTSTART;VALUE=DATE:20240330
DTEND;VALUE=DATE:20240801
DTSTAMP:20260421T202729
CREATED:20240330T153211Z
LAST-MODIFIED:20240330T153335Z
UID:2994-1711756800-1722470399@my365golf.com
SUMMARY:Indoor Golf Days at 365 Riverton
DESCRIPTION:Come join us at 365 Golf in Riverton! Meet other 365 Golf Members and Friends. We’ll play games and have some fun! Plus\, this won’t use up any of your monthly hours! \nTo RSVP\, please visit this page.
URL:https://my365golf.com/event/indoor-golf-days-at-365-riverton/
LOCATION:UT
CATEGORIES:Social Golf Event
ATTACH;FMTTYPE=image/jpeg:https://my365golf.com/wp-content/uploads/2022/01/PXL_20220111_010825071-scaled.jpg
END:VEVENT
BEGIN:VEVENT
DTSTART;TZID=America/Denver:20240328T070000
DTEND;TZID=America/Denver:20240328T090000
DTSTAMP:20260421T202729
CREATED:20240203T172513Z
LAST-MODIFIED:20240203T172513Z
UID:2755-1711609200-1711616400@my365golf.com
SUMMARY:Free Lesson by a PGA Pro
DESCRIPTION:Come take a few swings under the watchful eye of a former PGA Tour Professional. Dave DeSantis is currently a teaching professional.  He wants to help out and help you improve your golf game!
URL:https://my365golf.com/event/free-lesson-by-a-pga-pro-2/
LOCATION:365 Golf Pleasant Grove\, 1064 South N County Blvd\, Pleasant Grove\, UT\, 84062\, United States
ATTACH;FMTTYPE=image/jpeg:https://my365golf.com/wp-content/uploads/2024/02/Dave-Desantis-Picture.jpg
ORGANIZER;CN="Bruce Rowe":MAILTO:bruce@my365golf.com
END:VEVENT
BEGIN:VEVENT
DTSTART;TZID=America/Denver:20240319T100000
DTEND;TZID=America/Denver:20240319T170000
DTSTAMP:20260421T202729
CREATED:20240202T001429Z
LAST-MODIFIED:20240306T191057Z
UID:2701-1710842400-1710867600@my365golf.com
SUMMARY:PXG Fitting Day
DESCRIPTION:Get fitted with Golf Clubs by our Master Club Fitter Garrett Van Dyke.  Appointments are 1 hour each and will be held at our Pleasant Grove TribeHouse location. \nSchedule a PXG Fitting
URL:https://my365golf.com/event/pxg-fitting-day/
LOCATION:365 Golf Pleasant Grove\, 1064 South N County Blvd\, Pleasant Grove\, UT\, 84062\, United States
ATTACH;FMTTYPE=image/png:https://my365golf.com/wp-content/uploads/2024/02/365-Golf-pxg-tribehouse-generic.png
END:VEVENT
BEGIN:VEVENT
DTSTART;TZID=America/Denver:20240229T070000
DTEND;TZID=America/Denver:20240229T090000
DTSTAMP:20260421T202729
CREATED:20240202T000521Z
LAST-MODIFIED:20240202T222236Z
UID:2692-1709190000-1709197200@my365golf.com
SUMMARY:Free Lesson by a PGA Pro
DESCRIPTION:Come take a few swings under the watchful eye of a former PGA Tour Professional. Dave DeSantis is currently a teaching professional.  He wants to help out and help you improve your golf game!
URL:https://my365golf.com/event/free-lesson-by-a-pga-pro/
LOCATION:365 Golf Riverton\, 1515 W. 12600 S. Suite 203\, Riverton\, UT\, 84065\, United States
ATTACH;FMTTYPE=image/jpeg:https://my365golf.com/wp-content/uploads/2024/02/Dave-Desantis-Picture.jpg
ORGANIZER;CN="Dave DeSantis":MAILTO:davedesantis@pga.com
END:VEVENT
BEGIN:VEVENT
DTSTART;VALUE=DATE:20240201
DTEND;VALUE=DATE:20240205
DTSTAMP:20260421T202729
CREATED:20240202T233114Z
LAST-MODIFIED:20240202T233315Z
UID:2741-1706745600-1707091199@my365golf.com
SUMMARY:Pebble Beach TrackMan Tournament
DESCRIPTION:Participate in 365 Golf’s TrackMan Tournament at Pebble Beach while the PGA Tour is also competing at Pebble Beach. \nWe have it broken up into two tournaments.  Under 12 HDCP and Over 12 HDCP.  If you didn’t receive an invite to the tournament and you would like one please reach out to bruce@my365golf.com
URL:https://my365golf.com/event/pebble-beach-trackman-tournament/
LOCATION:UT
ATTACH;FMTTYPE=image/webp:https://my365golf.com/wp-content/uploads/2024/02/tournaments.webp
END:VEVENT
END:VCALENDAR