BEGIN:VCALENDAR
VERSION:2.0
PRODID:-//My365Golf.com - ECPv6.15.20//NONSGML v1.0//EN
CALSCALE:GREGORIAN
METHOD:PUBLISH
X-WR-CALNAME:My365Golf.com
X-ORIGINAL-URL:https://my365golf.com
X-WR-CALDESC:Events for My365Golf.com
REFRESH-INTERVAL;VALUE=DURATION:PT1H
X-Robots-Tag:noindex
X-PUBLISHED-TTL:PT1H
BEGIN:VTIMEZONE
TZID:America/Denver
BEGIN:DAYLIGHT
TZOFFSETFROM:-0700
TZOFFSETTO:-0600
TZNAME:MDT
DTSTART:20240310T090000
END:DAYLIGHT
BEGIN:STANDARD
TZOFFSETFROM:-0600
TZOFFSETTO:-0700
TZNAME:MST
DTSTART:20241103T080000
END:STANDARD
BEGIN:DAYLIGHT
TZOFFSETFROM:-0700
TZOFFSETTO:-0600
TZNAME:MDT
DTSTART:20250309T090000
END:DAYLIGHT
BEGIN:STANDARD
TZOFFSETFROM:-0600
TZOFFSETTO:-0700
TZNAME:MST
DTSTART:20251102T080000
END:STANDARD
BEGIN:DAYLIGHT
TZOFFSETFROM:-0700
TZOFFSETTO:-0600
TZNAME:MDT
DTSTART:20260308T090000
END:DAYLIGHT
BEGIN:STANDARD
TZOFFSETFROM:-0600
TZOFFSETTO:-0700
TZNAME:MST
DTSTART:20261101T080000
END:STANDARD
END:VTIMEZONE
BEGIN:VEVENT
DTSTART;TZID=America/Denver:20250327T160000
DTEND;TZID=America/Denver:20250327T180000
DTSTAMP:20260420T221127
CREATED:20250222T183435Z
LAST-MODIFIED:20250222T183435Z
UID:4382-1743091200-1743098400@my365golf.com
SUMMARY:Pleasant Grove Facility Tour
DESCRIPTION:For Potential and New Members\nTours Start at Either 4 pm or 5 pm\nWe are excited to show you the power of TrackMan to help you improve your game and have fun! We block out a few times on a regular basis for potential member tours and new member orientations. \nIf this date and time doesn’t work\, please look through the other Facility Tour dates and times to find one that works best for you! \nOnce you have RSVP’d\, we will send you a reminder via text within 24 hours of the tour date and time. \nFind Other Tour Times \n  \nPlease access 365 Golf in Pleasant Grove from the southwest corner of the building\, as shown in the picture below. \n \n  \n 
URL:https://my365golf.com/event/pleasant-grove-facility-tour-5/
LOCATION:365 Golf Pleasant Grove\, 1064 South N County Blvd\, Pleasant Grove\, UT\, 84062\, United States
CATEGORIES:Facility Tours
ATTACH;FMTTYPE=image/jpeg:https://my365golf.com/wp-content/uploads/2023/02/PXL_20230203_171701595.jpg
ORGANIZER;CN="Mark Hatch":MAILTO:mark@my365golf.com
END:VEVENT
BEGIN:VEVENT
DTSTART;TZID=America/Denver:20250329T080000
DTEND;TZID=America/Denver:20250329T100000
DTSTAMP:20260420T221127
CREATED:20250222T182751Z
LAST-MODIFIED:20250222T183632Z
UID:4377-1743235200-1743242400@my365golf.com
SUMMARY:Pleasant Grove Facility Tour
DESCRIPTION:For Potential and New Members\nTours Start at Either 8 am or 9 am\nWe are excited to show you the power of TrackMan to help you improve your game and have fun! We block out a few times on a regular basis for potential member tours and new member orientations. \nIf this date and time doesn’t work\, please look through the other Facility Tour dates and times to find one that works best for you! \nOnce you have RSVP’d\, we will send you a reminder via text within 24 hours of the tour date and time. \nFind Other Tour Times \n  \nPlease access 365 Golf in Pleasant Grove from the southwest corner of the building\, as shown in the picture below. \n \n  \n 
URL:https://my365golf.com/event/pleasant-grove-facility-tour-3/
LOCATION:365 Golf Pleasant Grove\, 1064 South N County Blvd\, Pleasant Grove\, UT\, 84062\, United States
CATEGORIES:Facility Tours
ATTACH;FMTTYPE=image/jpeg:https://my365golf.com/wp-content/uploads/2023/02/PXL_20230203_171701595.jpg
ORGANIZER;CN="Mark Hatch":MAILTO:mark@my365golf.com
END:VEVENT
BEGIN:VEVENT
DTSTART;TZID=America/Denver:20250331T160000
DTEND;TZID=America/Denver:20250331T180000
DTSTAMP:20260420T221127
CREATED:20250222T182601Z
LAST-MODIFIED:20250222T183514Z
UID:4373-1743436800-1743444000@my365golf.com
SUMMARY:Riverton Facility Tour
DESCRIPTION:For Potential and New Members\nTours Start at Either 4 pm or 5 pm\nWe are excited to show you the power of TrackMan to help you improve your game and have fun! We block out a few times on a regular basis for potential member tours and new member orientations. \nIf this date and time doesn’t work\, please look through the other Facility Tour dates and times to find one that works best for you! If those days and times cannot work with your schedule\, we will reach out to you. \nOnce you have RSVP’d\, we will send you a reminder via text within 24 hours of the tour date and time. \nFind Other Tour Times \n 
URL:https://my365golf.com/event/riverton-facility-tour-2/
LOCATION:365 Golf Riverton\, 1515 W. 12600 S. Suite 203\, Riverton\, UT\, 84065\, United States
CATEGORIES:Facility Tours
ATTACH;FMTTYPE=image/jpeg:https://my365golf.com/wp-content/uploads/2022/01/PXL_20220111_010825071-scaled.jpg
ORGANIZER;CN="Mark Hatch":MAILTO:mark@my365golf.com
END:VEVENT
BEGIN:VEVENT
DTSTART;TZID=America/Denver:20250403T160000
DTEND;TZID=America/Denver:20250403T180000
DTSTAMP:20260420T221127
CREATED:20250328T233414Z
LAST-MODIFIED:20250328T233927Z
UID:4386-1743696000-1743703200@my365golf.com
SUMMARY:Pleasant Grove Facility Tour - Thursday
DESCRIPTION:For Potential and New Members\nTours Start at Either 4 pm or 5 pm\nWe are excited to show you the power of TrackMan to help you improve your game and have fun! We block out a few times on a regular basis for potential member tours and new member orientations. \nIf this date and time doesn’t work\, please look through the other Facility Tour dates and times to find one that works best for you! \nOnce you have RSVP’d\, we will send you a reminder via text within 24 hours of the tour date and time. \nFind Other Tour Times \n  \nPlease access 365 Golf in Pleasant Grove from the southwest corner of the building\, as shown in the picture below. \n \n  \n 
URL:https://my365golf.com/event/pleasant-grove-facility-tour-9/
LOCATION:365 Golf Pleasant Grove\, 1064 South N County Blvd\, Pleasant Grove\, UT\, 84062\, United States
CATEGORIES:Facility Tours
ATTACH;FMTTYPE=image/jpeg:https://my365golf.com/wp-content/uploads/2023/02/PXL_20230203_171701595.jpg
ORGANIZER;CN="Mark Hatch":MAILTO:mark@my365golf.com
END:VEVENT
BEGIN:VEVENT
DTSTART;TZID=America/Denver:20250405T080000
DTEND;TZID=America/Denver:20250405T100000
DTSTAMP:20260420T221127
CREATED:20250328T233755Z
LAST-MODIFIED:20250328T233755Z
UID:4618-1743840000-1743847200@my365golf.com
SUMMARY:Riverton Facility Tour - Saturday
DESCRIPTION:For Potential and New Members\nTours Start at Either 8 am or 9 am\nWe are excited to show you the power of TrackMan to help you improve your game and have fun! We block out a few times on a regular basis for potential member tours and new member orientations. \nIf this date and time doesn’t work\, please look through the other Facility Tour dates and times to find one that works best for you! If those days and times cannot work with your schedule\, we will reach out to you. \nOnce you have RSVP’d\, we will send you a reminder via text within 24 hours of the tour date and time. \nFind Other Tour Times \n 
URL:https://my365golf.com/event/riverton-facility-tour-saturday/
LOCATION:365 Golf Riverton\, 1515 W. 12600 S. Suite 203\, Riverton\, UT\, 84065\, United States
CATEGORIES:Facility Tours
ATTACH;FMTTYPE=image/jpeg:https://my365golf.com/wp-content/uploads/2022/01/PXL_20220111_010825071-scaled.jpg
ORGANIZER;CN="Mark Hatch":MAILTO:mark@my365golf.com
END:VEVENT
BEGIN:VEVENT
DTSTART;TZID=America/Denver:20250407T160000
DTEND;TZID=America/Denver:20250407T180000
DTSTAMP:20260420T221127
CREATED:20250328T234143Z
LAST-MODIFIED:20250328T234143Z
UID:4627-1744041600-1744048800@my365golf.com
SUMMARY:Riverton Facility Tour - Monday
DESCRIPTION:For Potential and New Members\nTours Start at Either 4 pm or 5 pm\nWe are excited to show you the power of TrackMan to help you improve your game and have fun! We block out a few times on a regular basis for potential member tours and new member orientations. \nIf this date and time doesn’t work\, please look through the other Facility Tour dates and times to find one that works best for you! If those days and times cannot work with your schedule\, we will reach out to you. \nOnce you have RSVP’d\, we will send you a reminder via text within 24 hours of the tour date and time. \nFind Other Tour Times \n 
URL:https://my365golf.com/event/riverton-facility-tour-monday/
LOCATION:365 Golf Riverton\, 1515 W. 12600 S. Suite 203\, Riverton\, UT\, 84065\, United States
CATEGORIES:Facility Tours
ATTACH;FMTTYPE=image/jpeg:https://my365golf.com/wp-content/uploads/2022/01/PXL_20220111_010825071-scaled.jpg
ORGANIZER;CN="Mark Hatch":MAILTO:mark@my365golf.com
END:VEVENT
BEGIN:VEVENT
DTSTART;TZID=America/Denver:20250417T160000
DTEND;TZID=America/Denver:20250417T180000
DTSTAMP:20260420T221127
CREATED:20250328T234309Z
LAST-MODIFIED:20250331T214558Z
UID:4631-1744905600-1744912800@my365golf.com
SUMMARY:Pleasant Grove Facility Tour - Thursday
DESCRIPTION:For Potential and New Members\nTours Start at Either 4 pm or 5 pm\nWe are excited to show you the power of TrackMan to help you improve your game and have fun! We block out a few times on a regular basis for potential member tours and new member orientations. \nIf this date and time doesn’t work\, please look through the other Facility Tour dates and times to find one that works best for you! \nOnce you have RSVP’d\, we will send you a reminder via text within 24 hours of the tour date and time. \nFind Other Tour Times \n  \nPlease access 365 Golf in Pleasant Grove from the southwest corner of the building\, as shown in the picture below. \n \n  \n 
URL:https://my365golf.com/event/pleasant-grove-facility-tour-thursday/
LOCATION:365 Golf Pleasant Grove\, 1064 South N County Blvd\, Pleasant Grove\, UT\, 84062\, United States
CATEGORIES:Facility Tours
ATTACH;FMTTYPE=image/jpeg:https://my365golf.com/wp-content/uploads/2023/02/PXL_20230203_171701595.jpg
ORGANIZER;CN="Mark Hatch":MAILTO:mark@my365golf.com
END:VEVENT
BEGIN:VEVENT
DTSTART;TZID=America/Denver:20250419T080000
DTEND;TZID=America/Denver:20250419T100000
DTSTAMP:20260420T221127
CREATED:20250328T234515Z
LAST-MODIFIED:20250331T214707Z
UID:4635-1745049600-1745056800@my365golf.com
SUMMARY:Pleasant Grove Facility Tour - Saturday
DESCRIPTION:For Potential and New Members\nTours Start at Either 8 am or 9 am\nWe are excited to show you the power of TrackMan to help you improve your game and have fun! We block out a few times on a regular basis for potential member tours and new member orientations. \nIf this date and time doesn’t work\, please look through the other Facility Tour dates and times to find one that works best for you! \nOnce you have RSVP’d\, we will send you a reminder via text within 24 hours of the tour date and time. \nFind Other Tour Times \n  \nPlease access 365 Golf in Pleasant Grove from the southwest corner of the building\, as shown in the picture below. \n \n  \n 
URL:https://my365golf.com/event/pleasant-grove-facility-tour-saturday/
LOCATION:365 Golf Pleasant Grove\, 1064 South N County Blvd\, Pleasant Grove\, UT\, 84062\, United States
CATEGORIES:Facility Tours
ATTACH;FMTTYPE=image/jpeg:https://my365golf.com/wp-content/uploads/2023/02/PXL_20230203_171701595.jpg
ORGANIZER;CN="Mark Hatch":MAILTO:mark@my365golf.com
END:VEVENT
BEGIN:VEVENT
DTSTART;TZID=America/Denver:20250715T120000
DTEND;TZID=America/Denver:20250715T130000
DTSTAMP:20260420T221127
CREATED:20240202T002126Z
LAST-MODIFIED:20250619T172924Z
UID:2706-1752580800-1752584400@my365golf.com
SUMMARY:Pre-Round Warm-Up Routine - Golf Fitness Clinic
DESCRIPTION:Pre-Round Warm-Up Routine\nDo you prepare your body before swinging the golf club?  If you don’t know what to do\, you need to come to this to learn some simple golf dynamic warm-ups that you can do while you’re at the range or at the first tee box. \n  \nIn this clinic\, Dr. Jared Wadsworth will help you learn an efficient and effective way to properly warm up before your round of golf. \n 
URL:https://my365golf.com/event/pre-round-warm-up-routine/
LOCATION:365 Golf Pleasant Grove\, 1064 South N County Blvd\, Pleasant Grove\, UT\, 84062\, United States
CATEGORIES:Golf Fitness
ATTACH;FMTTYPE=image/jpeg:https://my365golf.com/wp-content/uploads/2024/02/TPI-03305.jpg
ORGANIZER;CN="Bruce Rowe":MAILTO:bruce@my365golf.com
END:VEVENT
BEGIN:VEVENT
DTSTART;TZID=America/Denver:20250822T120000
DTEND;TZID=America/Denver:20250822T130000
DTSTAMP:20260420T221127
CREATED:20250619T173154Z
LAST-MODIFIED:20250619T173154Z
UID:4996-1755864000-1755867600@my365golf.com
SUMMARY:Preventing Lower Back Pain - Golf Fitness Clinic
DESCRIPTION:Preventing Lower Back Pain as a Golfer\nDo you deal with lower back pain after playing a round of golf? Come learn what are the specific needs you need to do as a golfer to avoid lower back pain. \nIn this clinic\, Dr. Jared Wadsworth will help you learn how to prevent lower back pain while you become a better golfer.
URL:https://my365golf.com/event/preventing-lower-back-pain/
LOCATION:365 Golf Pleasant Grove\, 1064 South N County Blvd\, Pleasant Grove\, UT\, 84062\, United States
CATEGORIES:Golf Fitness
ATTACH;FMTTYPE=image/jpeg:https://my365golf.com/wp-content/uploads/2024/02/TPI-03305.jpg
ORGANIZER;CN="Jared Wadsworth":MAILTO:jwadsworth.sportsdc@gmail.com
END:VEVENT
BEGIN:VEVENT
DTSTART;TZID=America/Denver:20250905T090000
DTEND;TZID=America/Denver:20250905T100000
DTSTAMP:20260420T221127
CREATED:20240209T182115Z
LAST-MODIFIED:20250619T173443Z
UID:2806-1757062800-1757066400@my365golf.com
SUMMARY:Fitness for Golf - Golf Fitness Clinic
DESCRIPTION:Fitness for Golf\nIs your body prepared for golfing? Come learn about some fitness exercises to help prepare yourself for golf! \nIn this clinic\, Dr. Jared Wadsworth will help you prepare your body for the golf season. \n 
URL:https://my365golf.com/event/fitness-for-golf/
LOCATION:365 Golf Pleasant Grove\, 1064 South N County Blvd\, Pleasant Grove\, UT\, 84062\, United States
CATEGORIES:Golf Fitness
ATTACH;FMTTYPE=image/jpeg:https://my365golf.com/wp-content/uploads/2024/02/TPI-03305.jpg
ORGANIZER;CN="Jared Wadsworth":MAILTO:jwadsworth.sportsdc@gmail.com
END:VEVENT
END:VCALENDAR