BEGIN:VCALENDAR
VERSION:2.0
PRODID:-//My365Golf.com - ECPv6.15.20//NONSGML v1.0//EN
CALSCALE:GREGORIAN
METHOD:PUBLISH
X-WR-CALNAME:My365Golf.com
X-ORIGINAL-URL:https://my365golf.com
X-WR-CALDESC:Events for My365Golf.com
REFRESH-INTERVAL;VALUE=DURATION:PT1H
X-Robots-Tag:noindex
X-PUBLISHED-TTL:PT1H
BEGIN:VTIMEZONE
TZID:America/Denver
BEGIN:DAYLIGHT
TZOFFSETFROM:-0700
TZOFFSETTO:-0600
TZNAME:MDT
DTSTART:20240310T090000
END:DAYLIGHT
BEGIN:STANDARD
TZOFFSETFROM:-0600
TZOFFSETTO:-0700
TZNAME:MST
DTSTART:20241103T080000
END:STANDARD
BEGIN:DAYLIGHT
TZOFFSETFROM:-0700
TZOFFSETTO:-0600
TZNAME:MDT
DTSTART:20250309T090000
END:DAYLIGHT
BEGIN:STANDARD
TZOFFSETFROM:-0600
TZOFFSETTO:-0700
TZNAME:MST
DTSTART:20251102T080000
END:STANDARD
BEGIN:DAYLIGHT
TZOFFSETFROM:-0700
TZOFFSETTO:-0600
TZNAME:MDT
DTSTART:20260308T090000
END:DAYLIGHT
BEGIN:STANDARD
TZOFFSETFROM:-0600
TZOFFSETTO:-0700
TZNAME:MST
DTSTART:20261101T080000
END:STANDARD
END:VTIMEZONE
BEGIN:VEVENT
DTSTART;TZID=America/Denver:20250201T083000
DTEND;TZID=America/Denver:20250201T100000
DTSTAMP:20260422T091812
CREATED:20250118T211613Z
LAST-MODIFIED:20250118T212331Z
UID:4109-1738398600-1738404000@my365golf.com
SUMMARY:Get to Know TrackMan - Pleasant Grove - Feb 1
DESCRIPTION:Today’s session will be on Saturday\, Feb 1 in PLEASANT GROVE from 8:30 to 10:00 am. \nWe get a lot of questions about TrackMan. For example:\n\n\nHow does calibrating TrackMan work? (it only takes 30 seconds\, and it ensures more accurate data?)\nWhat does Virtual Golf 3 mean?\nWhat settings can you control when you play a round of golf?\nWhat’s a Ghost round?\nI’m trying to be more consistent with your irons. What are some good drills? What metrics should I look at?\nI’m trying to increase your driver distance. Am I looking at the right metrics? Are you aware of TrackMan Speed Training? Are you aware of the Driver Optimizer?\nI’m trying to reduce my slice. Which metrics do I need to understand?\nI need to be better from 30 yards to 110 yards. What resources (Shot Analysis? Range? Target Practice? Which Games? Par 3 Courses?)
URL:https://my365golf.com/event/get-to-know-trackman-feb-1/
LOCATION:365 Golf Pleasant Grove\, 1064 South N County Blvd\, Pleasant Grove\, UT\, 84062\, United States
ATTACH;FMTTYPE=image/jpeg:https://my365golf.com/wp-content/uploads/2022/01/trusted.jpeg
END:VEVENT
BEGIN:VEVENT
DTSTART;TZID=America/Denver:20250208T100000
DTEND;TZID=America/Denver:20250208T120000
DTSTAMP:20260422T091812
CREATED:20250118T212035Z
LAST-MODIFIED:20250118T212415Z
UID:4110-1739008800-1739016000@my365golf.com
SUMMARY:Get to Know TrackMan - Riverton - Feb 8
DESCRIPTION:Today’s session will be on Saturday\, Feb 8 in RIVERTON from 10:00 to Noon. \nWe get a lot of questions about TrackMan. For example:\n\n\nHow does calibrating TrackMan work? (it only takes 30 seconds\, and it ensures more accurate data?)\nWhat does Virtual Golf 3 mean?\nWhat settings can you control when you play a round of golf?\nWhat’s a Ghost round?\nI’m trying to be more consistent with your irons. What are some good drills? What metrics should I look at?\nI’m trying to increase your driver distance. Am I looking at the right metrics? Are you aware of TrackMan Speed Training? Are you aware of the Driver Optimizer?\nI’m trying to reduce my slice. Which metrics do I need to understand?\nI need to be better from 30 yards to 110 yards. What resources (Shot Analysis? Range? Target Practice? Which Games? Par 3 Courses?)
URL:https://my365golf.com/event/get-to-know-trackman-feb-8/
LOCATION:365 Golf Riverton\, 1515 W. 12600 S. Suite 203\, Riverton\, UT\, 84065\, United States
ATTACH;FMTTYPE=image/jpeg:https://my365golf.com/wp-content/uploads/2022/01/trusted.jpeg
END:VEVENT
BEGIN:VEVENT
DTSTART;TZID=America/Denver:20250220T160000
DTEND;TZID=America/Denver:20250220T180000
DTSTAMP:20260422T091812
CREATED:20250220T184420Z
LAST-MODIFIED:20250220T202115Z
UID:4309-1740067200-1740074400@my365golf.com
SUMMARY:Pleasant Grove Facility Tour
DESCRIPTION:For Potential and New Members\nTours Start at Either 4 pm or 5 pm\nWe are excited to show you the power of TrackMan to help you improve your game and have fun! We block out a few times on a regular basis for potential member tours and new member orientations. \nIf this date and time doesn’t work\, please look through the other Facility Tour dates and times to find one that works best for you! \nOnce you have RSVP’d\, we will send you a reminder via text within 24 hours of the tour date and time. \nFind Other Tour Times \n 
URL:https://my365golf.com/event/pleasant-grove-facility-tour/
LOCATION:365 Golf Pleasant Grove\, 1064 South N County Blvd\, Pleasant Grove\, UT\, 84062\, United States
CATEGORIES:Facility Tours
ATTACH;FMTTYPE=image/jpeg:https://my365golf.com/wp-content/uploads/2023/08/365-Golf-in-Pleasant-Grove-From-the-South.jpg
ORGANIZER;CN="Mark Hatch":MAILTO:mark@my365golf.com
END:VEVENT
BEGIN:VEVENT
DTSTART;TZID=America/Denver:20250227T160000
DTEND;TZID=America/Denver:20250227T180000
DTSTAMP:20260422T091812
CREATED:20250220T214047Z
LAST-MODIFIED:20250222T165845Z
UID:4328-1740672000-1740679200@my365golf.com
SUMMARY:Pleasant Grove Facility Tour
DESCRIPTION:For Potential and New Members\nTours Start at Either 4 pm or 5 pm\nWe are excited to show you the power of TrackMan to help you improve your game and have fun! We block out a few times on a regular basis for potential member tours and new member orientations. \nIf this date and time doesn’t work\, please look through the other Facility Tour dates and times to find one that works best for you! \nOnce you have RSVP’d\, we will send you a reminder via text within 24 hours of the tour date and time. \nFind Other Tour Times \n  \nPlease access 365 Golf in Pleasant Grove from the southwest corner of the building\, as shown in the picture below. \n \n  \n 
URL:https://my365golf.com/event/pleasant-grove-facility-tour-2/
LOCATION:365 Golf Pleasant Grove\, 1064 South N County Blvd\, Pleasant Grove\, UT\, 84062\, United States
CATEGORIES:Facility Tours
ATTACH;FMTTYPE=image/jpeg:https://my365golf.com/wp-content/uploads/2023/02/PXL_20230203_171701595.jpg
ORGANIZER;CN="Mark Hatch":MAILTO:mark@my365golf.com
END:VEVENT
END:VCALENDAR